BEGIN:VCALENDAR
VERSION:2.0
PRODID:-//Jimmy&#039;s Jerky Junction - ECPv6.15.17.1//NONSGML v1.0//EN
CALSCALE:GREGORIAN
METHOD:PUBLISH
X-WR-CALNAME:Jimmy&#039;s Jerky Junction
X-ORIGINAL-URL:https://jimmysjerkyjunction.com
X-WR-CALDESC:Events for Jimmy&#039;s Jerky Junction
REFRESH-INTERVAL;VALUE=DURATION:PT1H
X-Robots-Tag:noindex
X-PUBLISHED-TTL:PT1H
BEGIN:VTIMEZONE
TZID:America/Chicago
BEGIN:DAYLIGHT
TZOFFSETFROM:-0600
TZOFFSETTO:-0500
TZNAME:CDT
DTSTART:20220313T080000
END:DAYLIGHT
BEGIN:STANDARD
TZOFFSETFROM:-0500
TZOFFSETTO:-0600
TZNAME:CST
DTSTART:20221106T070000
END:STANDARD
BEGIN:DAYLIGHT
TZOFFSETFROM:-0600
TZOFFSETTO:-0500
TZNAME:CDT
DTSTART:20230312T080000
END:DAYLIGHT
BEGIN:STANDARD
TZOFFSETFROM:-0500
TZOFFSETTO:-0600
TZNAME:CST
DTSTART:20231105T070000
END:STANDARD
BEGIN:DAYLIGHT
TZOFFSETFROM:-0600
TZOFFSETTO:-0500
TZNAME:CDT
DTSTART:20240310T080000
END:DAYLIGHT
BEGIN:STANDARD
TZOFFSETFROM:-0500
TZOFFSETTO:-0600
TZNAME:CST
DTSTART:20241103T070000
END:STANDARD
END:VTIMEZONE
BEGIN:VEVENT
DTSTART;TZID=America/Chicago:20230429T093000
DTEND;TZID=America/Chicago:20230429T160000
DTSTAMP:20260423T134709
CREATED:20230202T162810Z
LAST-MODIFIED:20230316T210047Z
UID:1744-1682760600-1682784000@jimmysjerkyjunction.com
SUMMARY:Andover Spring Craft & Gift Show
DESCRIPTION:Our shows feature a fantastic combination of handmade arts & crafts\, jewelry\, bath & body products\, home décor\, gourmet food / concessions\, glass / metal art\, wood working\, and so much more! This location hosts up to 130 vendor spaces. Come support local small businesses. Shop local\, shop small.
URL:https://jimmysjerkyjunction.com/event/andover-spring-craft-gift-show/
LOCATION:Andover Community Center\, 15200 Hanson Blvd NW\, Andover\, MN\, 55304\, United States
END:VEVENT
END:VCALENDAR