BEGIN:VCALENDAR
VERSION:2.0
PRODID:-//Jimmy&#039;s Jerky Junction - ECPv6.15.17.1//NONSGML v1.0//EN
CALSCALE:GREGORIAN
METHOD:PUBLISH
X-WR-CALNAME:Jimmy&#039;s Jerky Junction
X-ORIGINAL-URL:https://jimmysjerkyjunction.com
X-WR-CALDESC:Events for Jimmy&#039;s Jerky Junction
REFRESH-INTERVAL;VALUE=DURATION:PT1H
X-Robots-Tag:noindex
X-PUBLISHED-TTL:PT1H
BEGIN:VTIMEZONE
TZID:America/Chicago
BEGIN:DAYLIGHT
TZOFFSETFROM:-0600
TZOFFSETTO:-0500
TZNAME:CDT
DTSTART:20220313T080000
END:DAYLIGHT
BEGIN:STANDARD
TZOFFSETFROM:-0500
TZOFFSETTO:-0600
TZNAME:CST
DTSTART:20221106T070000
END:STANDARD
BEGIN:DAYLIGHT
TZOFFSETFROM:-0600
TZOFFSETTO:-0500
TZNAME:CDT
DTSTART:20230312T080000
END:DAYLIGHT
BEGIN:STANDARD
TZOFFSETFROM:-0500
TZOFFSETTO:-0600
TZNAME:CST
DTSTART:20231105T070000
END:STANDARD
BEGIN:DAYLIGHT
TZOFFSETFROM:-0600
TZOFFSETTO:-0500
TZNAME:CDT
DTSTART:20240310T080000
END:DAYLIGHT
BEGIN:STANDARD
TZOFFSETFROM:-0500
TZOFFSETTO:-0600
TZNAME:CST
DTSTART:20241103T070000
END:STANDARD
END:VTIMEZONE
BEGIN:VEVENT
DTSTART;TZID=America/Chicago:20230916T080000
DTEND;TZID=America/Chicago:20230916T170000
DTSTAMP:20260423T064441
CREATED:20230602T180627Z
LAST-MODIFIED:20230602T180627Z
UID:2066-1694851200-1694883600@jimmysjerkyjunction.com
SUMMARY:Nickel Dickel Days - Waconia 9/16/23
DESCRIPTION:Stroll through the arts and crafts fair\, the library book sale and the car and truck show. \nWatch the duck races and the 3 on 3 basketball tournament. \nListen to live music while enjoying some delicious food. Run in a Nickle Dickle Day race! \nGreat shopping and deals all around town… a day not to be missed!
URL:https://jimmysjerkyjunction.com/event/nickel-dickel-days-waconia-9-16-23/
LOCATION:Nickel Dickel Days\, City Square Park\, Waconia\, MN\, United States
END:VEVENT
END:VCALENDAR