BEGIN:VCALENDAR
VERSION:2.0
PRODID:-//Jimmy&#039;s Jerky Junction - ECPv6.15.17.1//NONSGML v1.0//EN
CALSCALE:GREGORIAN
METHOD:PUBLISH
X-WR-CALNAME:Jimmy&#039;s Jerky Junction
X-ORIGINAL-URL:https://jimmysjerkyjunction.com
X-WR-CALDESC:Events for Jimmy&#039;s Jerky Junction
REFRESH-INTERVAL;VALUE=DURATION:PT1H
X-Robots-Tag:noindex
X-PUBLISHED-TTL:PT1H
BEGIN:VTIMEZONE
TZID:America/Chicago
BEGIN:DAYLIGHT
TZOFFSETFROM:-0600
TZOFFSETTO:-0500
TZNAME:CDT
DTSTART:20220313T080000
END:DAYLIGHT
BEGIN:STANDARD
TZOFFSETFROM:-0500
TZOFFSETTO:-0600
TZNAME:CST
DTSTART:20221106T070000
END:STANDARD
BEGIN:DAYLIGHT
TZOFFSETFROM:-0600
TZOFFSETTO:-0500
TZNAME:CDT
DTSTART:20230312T080000
END:DAYLIGHT
BEGIN:STANDARD
TZOFFSETFROM:-0500
TZOFFSETTO:-0600
TZNAME:CST
DTSTART:20231105T070000
END:STANDARD
BEGIN:DAYLIGHT
TZOFFSETFROM:-0600
TZOFFSETTO:-0500
TZNAME:CDT
DTSTART:20240310T080000
END:DAYLIGHT
BEGIN:STANDARD
TZOFFSETFROM:-0500
TZOFFSETTO:-0600
TZNAME:CST
DTSTART:20241103T070000
END:STANDARD
END:VTIMEZONE
BEGIN:VEVENT
DTSTART;TZID=America/Chicago:20231001T100000
DTEND;TZID=America/Chicago:20231001T150000
DTSTAMP:20260423T052136
CREATED:20230602T174329Z
LAST-MODIFIED:20230602T181816Z
UID:2062-1696154400-1696172400@jimmysjerkyjunction.com
SUMMARY:Woodbury Fall Festival
DESCRIPTION:Woodbury Fall Festival \nOctober 1st – 10am-3pm \n 
URL:https://jimmysjerkyjunction.com/event/woodbury-fall-festival/
LOCATION:Woodbury Fall Fest\, 4125 Radio Drive\, Woodbury\, 55129\, United States
END:VEVENT
END:VCALENDAR