BEGIN:VCALENDAR
VERSION:2.0
PRODID:-//Jimmy&#039;s Jerky Junction - ECPv6.15.17.1//NONSGML v1.0//EN
CALSCALE:GREGORIAN
METHOD:PUBLISH
X-WR-CALNAME:Jimmy&#039;s Jerky Junction
X-ORIGINAL-URL:https://jimmysjerkyjunction.com
X-WR-CALDESC:Events for Jimmy&#039;s Jerky Junction
REFRESH-INTERVAL;VALUE=DURATION:PT1H
X-Robots-Tag:noindex
X-PUBLISHED-TTL:PT1H
BEGIN:VTIMEZONE
TZID:America/Chicago
BEGIN:DAYLIGHT
TZOFFSETFROM:-0600
TZOFFSETTO:-0500
TZNAME:CDT
DTSTART:20220313T080000
END:DAYLIGHT
BEGIN:STANDARD
TZOFFSETFROM:-0500
TZOFFSETTO:-0600
TZNAME:CST
DTSTART:20221106T070000
END:STANDARD
BEGIN:DAYLIGHT
TZOFFSETFROM:-0600
TZOFFSETTO:-0500
TZNAME:CDT
DTSTART:20230312T080000
END:DAYLIGHT
BEGIN:STANDARD
TZOFFSETFROM:-0500
TZOFFSETTO:-0600
TZNAME:CST
DTSTART:20231105T070000
END:STANDARD
BEGIN:DAYLIGHT
TZOFFSETFROM:-0600
TZOFFSETTO:-0500
TZNAME:CDT
DTSTART:20240310T080000
END:DAYLIGHT
BEGIN:STANDARD
TZOFFSETFROM:-0500
TZOFFSETTO:-0600
TZNAME:CST
DTSTART:20241103T070000
END:STANDARD
END:VTIMEZONE
BEGIN:VEVENT
DTSTART;TZID=America/Chicago:20231111T093000
DTEND;TZID=America/Chicago:20231111T160000
DTSTAMP:20260423T040205
CREATED:20230315T211044Z
LAST-MODIFIED:20230323T213147Z
UID:1949-1699695000-1699718400@jimmysjerkyjunction.com
SUMMARY:Forest lake Thanksgiving Craft & Gift Show 2023
DESCRIPTION:International Gifts & Handicrafts Industry Expo \nThanksgiving Craft & Gift Show is one of the largest craft shows. The show will give you a chance to meet the craft artists and the experts. There will be numbers of visitors who will come to see and purchase beautiful piece of work. The exhibitors will introduce their latest collection of creative handmade gifts. You will find wide variety of all kind of creative gifts. This event will offer best quality of each and every product you will buy. This will provide the exhibitors a large marketplace to sell their products and build their own brand. Thanksgiving Craft and Gift Show will bring all the buyers\, sellers\, artists\, and experts from across the country. \n11/11/23 – 9:30am to 4:00pm
URL:https://jimmysjerkyjunction.com/event/forest-lake-thanksgiving-craft-gift-show-2023/
LOCATION:Forest lake Thanksgiving Craft & Gift Show 2023\, 355 W Broadway Ave\, Forest Lake\, 55025\, United States
END:VEVENT
END:VCALENDAR