BEGIN:VCALENDAR
VERSION:2.0
PRODID:-//Jimmy&#039;s Jerky Junction - ECPv6.15.17.1//NONSGML v1.0//EN
CALSCALE:GREGORIAN
METHOD:PUBLISH
X-WR-CALNAME:Jimmy&#039;s Jerky Junction
X-ORIGINAL-URL:https://jimmysjerkyjunction.com
X-WR-CALDESC:Events for Jimmy&#039;s Jerky Junction
REFRESH-INTERVAL;VALUE=DURATION:PT1H
X-Robots-Tag:noindex
X-PUBLISHED-TTL:PT1H
BEGIN:VTIMEZONE
TZID:America/Chicago
BEGIN:DAYLIGHT
TZOFFSETFROM:-0600
TZOFFSETTO:-0500
TZNAME:CDT
DTSTART:20220313T080000
END:DAYLIGHT
BEGIN:STANDARD
TZOFFSETFROM:-0500
TZOFFSETTO:-0600
TZNAME:CST
DTSTART:20221106T070000
END:STANDARD
BEGIN:DAYLIGHT
TZOFFSETFROM:-0600
TZOFFSETTO:-0500
TZNAME:CDT
DTSTART:20230312T080000
END:DAYLIGHT
BEGIN:STANDARD
TZOFFSETFROM:-0500
TZOFFSETTO:-0600
TZNAME:CST
DTSTART:20231105T070000
END:STANDARD
BEGIN:DAYLIGHT
TZOFFSETFROM:-0600
TZOFFSETTO:-0500
TZNAME:CDT
DTSTART:20240310T080000
END:DAYLIGHT
BEGIN:STANDARD
TZOFFSETFROM:-0500
TZOFFSETTO:-0600
TZNAME:CST
DTSTART:20241103T070000
END:STANDARD
END:VTIMEZONE
BEGIN:VEVENT
DTSTART;TZID=America/Chicago:20231118T100000
DTEND;TZID=America/Chicago:20231118T150000
DTSTAMP:20260423T040138
CREATED:20230323T183806Z
LAST-MODIFIED:20230323T185645Z
UID:2027-1700301600-1700319600@jimmysjerkyjunction.com
SUMMARY:Maple Grove - Winter Is In The Air 2023
DESCRIPTION:This event is going to be so Spectacular! From Original Handmade Craft Exhibitors to Small Businesses\, Woodworkers\, knots\, embroidery\, crocheted items\, Lights\, Metal Art\, Wood Signs\, Cosmetics\, Beauty and Wellness products\, Art\, Photographers\, Bakers\, Candy Makers\, Jams and Jellies\, Etc. We will have just about everything you are looking for at this event. \nStop in as we offer Free Admission\, Free Parking\, Family-friendly atmosphere\, and we are always Handicapped accessible. \n 
URL:https://jimmysjerkyjunction.com/event/maple-grove-winter-is-in-the-air/
LOCATION:Maple Grove – Winter is in the air\, 8686 Valley Forge Lane North\, Maple Grove\, MN\, 55369\, United States
END:VEVENT
END:VCALENDAR