BEGIN:VCALENDAR
VERSION:2.0
PRODID:-//Jimmy&#039;s Jerky Junction - ECPv6.15.17.1//NONSGML v1.0//EN
CALSCALE:GREGORIAN
METHOD:PUBLISH
X-ORIGINAL-URL:https://jimmysjerkyjunction.com
X-WR-CALDESC:Events for Jimmy&#039;s Jerky Junction
REFRESH-INTERVAL;VALUE=DURATION:PT1H
X-Robots-Tag:noindex
X-PUBLISHED-TTL:PT1H
BEGIN:VTIMEZONE
TZID:America/Chicago
BEGIN:DAYLIGHT
TZOFFSETFROM:-0600
TZOFFSETTO:-0500
TZNAME:CDT
DTSTART:20220313T080000
END:DAYLIGHT
BEGIN:STANDARD
TZOFFSETFROM:-0500
TZOFFSETTO:-0600
TZNAME:CST
DTSTART:20221106T070000
END:STANDARD
BEGIN:DAYLIGHT
TZOFFSETFROM:-0600
TZOFFSETTO:-0500
TZNAME:CDT
DTSTART:20230312T080000
END:DAYLIGHT
BEGIN:STANDARD
TZOFFSETFROM:-0500
TZOFFSETTO:-0600
TZNAME:CST
DTSTART:20231105T070000
END:STANDARD
BEGIN:DAYLIGHT
TZOFFSETFROM:-0600
TZOFFSETTO:-0500
TZNAME:CDT
DTSTART:20240310T080000
END:DAYLIGHT
BEGIN:STANDARD
TZOFFSETFROM:-0500
TZOFFSETTO:-0600
TZNAME:CST
DTSTART:20241103T070000
END:STANDARD
END:VTIMEZONE
BEGIN:VEVENT
DTSTART;TZID=America/Chicago:20230715T090000
DTEND;TZID=America/Chicago:20230715T160000
DTSTAMP:20260423T081810
CREATED:20230413T180535Z
LAST-MODIFIED:20230602T182726Z
UID:2041-1689411600-1689436800@jimmysjerkyjunction.com
SUMMARY:The 89th Hopkins Raspberry Festival July 15th\, 2023
DESCRIPTION:Since 1935\, the Raspberry Festival has been a celebration of Hopkins held the third weekend of July. The goal is to connect the community\, support local businesses and promote Hopkins. \nPeople of all ages from all over the metro come to participate in events\, which includes entertainment\, food and activities. We have a Marketplace fair\, which is an arts and crafts event; a Raspberry Royalty coronation\, where we select new representatives for the year; and a Grande Day Parade\, which draws thousands of visitors to Hopkins. \nThe festival is run by volunteers\, who work all year to support the mission and develop future leaders of the community.
URL:https://jimmysjerkyjunction.com/event/the-89th-hopkins-raspberry-festival-july-12-16-2023/
LOCATION:Hopkins Raspberry Festival\, Mainstreet Mainstreet Hopkins\, Hopkins\, MN\, 55343\, United States
END:VEVENT
BEGIN:VEVENT
DTSTART;TZID=America/Chicago:20230721T100000
DTEND;TZID=America/Chicago:20230723T180000
DTSTAMP:20260423T081810
CREATED:20230626T164848Z
LAST-MODIFIED:20230628T142700Z
UID:2079-1689933600-1690135200@jimmysjerkyjunction.com
SUMMARY:2023 Street Machine Nationals - St. Paul - July 21st-23rd
DESCRIPTION:The Street Machine Nationals will feature stunning high-performance street machines\, hot rods\, street trucks and the best dream machines from coast-to-coast\, all on display. In addition to the cars\, the Performance Marketplace will showcase products and services from industry leaders\, many offering special show-pricing. \nFRIDAY\, JULY 21 | 10 AM TO 6 PM \nSATURDAY\, JULY 22 | 9 AM TO 6 PM \nSUNDAY\, JULY 23 | 9 AM TO 3 PM
URL:https://jimmysjerkyjunction.com/event/2023-street-machine-nationals-st-paul/
LOCATION:Street Machine Nationals 2023\, 1265 Snelling Ave N\, St Paul\, MN\, 55108\, United States
END:VEVENT
END:VCALENDAR