BEGIN:VCALENDAR
VERSION:2.0
PRODID:-//Jimmy&#039;s Jerky Junction - ECPv6.15.17.1//NONSGML v1.0//EN
CALSCALE:GREGORIAN
METHOD:PUBLISH
X-WR-CALNAME:Jimmy&#039;s Jerky Junction
X-ORIGINAL-URL:https://jimmysjerkyjunction.com
X-WR-CALDESC:Events for Jimmy&#039;s Jerky Junction
REFRESH-INTERVAL;VALUE=DURATION:PT1H
X-Robots-Tag:noindex
X-PUBLISHED-TTL:PT1H
BEGIN:VTIMEZONE
TZID:America/Chicago
BEGIN:DAYLIGHT
TZOFFSETFROM:-0600
TZOFFSETTO:-0500
TZNAME:CDT
DTSTART:20220313T080000
END:DAYLIGHT
BEGIN:STANDARD
TZOFFSETFROM:-0500
TZOFFSETTO:-0600
TZNAME:CST
DTSTART:20221106T070000
END:STANDARD
BEGIN:DAYLIGHT
TZOFFSETFROM:-0600
TZOFFSETTO:-0500
TZNAME:CDT
DTSTART:20230312T080000
END:DAYLIGHT
BEGIN:STANDARD
TZOFFSETFROM:-0500
TZOFFSETTO:-0600
TZNAME:CST
DTSTART:20231105T070000
END:STANDARD
BEGIN:DAYLIGHT
TZOFFSETFROM:-0600
TZOFFSETTO:-0500
TZNAME:CDT
DTSTART:20240310T080000
END:DAYLIGHT
BEGIN:STANDARD
TZOFFSETFROM:-0500
TZOFFSETTO:-0600
TZNAME:CST
DTSTART:20241103T070000
END:STANDARD
END:VTIMEZONE
BEGIN:VEVENT
DTSTART;TZID=America/Chicago:20231202T093000
DTEND;TZID=America/Chicago:20231203T160000
DTSTAMP:20260423T011629
CREATED:20230315T220029Z
LAST-MODIFIED:20230323T190146Z
UID:1954-1701509400-1701619200@jimmysjerkyjunction.com
SUMMARY:Andover Christmas Craft & Gift Show 2023
DESCRIPTION:2 DAY EVENT!! \nFacility: Andover Community Center \nLocation: 15200 Hanson Blvd NW\nAndover\, MN 55304 \nTime:\nDecember 2\, 2023\n9:30 AM – 4:00 PM\nDecember 3\, 2023\n10:00 AM – 4:00 PM \n 
URL:https://jimmysjerkyjunction.com/event/andover-christmas-craft-gift-show-2021/
LOCATION:Andover Christmas Craft & Gift\, 15200 Hanson Blvd NW\, MN\, 55304\, United States
END:VEVENT
BEGIN:VEVENT
DTSTART;TZID=America/Chicago:20231209T100000
DTEND;TZID=America/Chicago:20231209T150000
DTSTAMP:20260423T011629
CREATED:20230602T172935Z
LAST-MODIFIED:20230602T181314Z
UID:2059-1702116000-1702134000@jimmysjerkyjunction.com
SUMMARY:Rosemount National Guard Arts & Crafts Show
DESCRIPTION:Rosemount National Guard Arts & Crafts Show \nDecember 9th \n10am-3pm
URL:https://jimmysjerkyjunction.com/event/rosemount-national-guard-arts-crafts-show/
LOCATION:Rosemount Arts and Crafts – Army National Guard\, 13885 South Robert Trail\, Rosemount\, 55068
END:VEVENT
BEGIN:VEVENT
DTSTART;TZID=America/Chicago:20231210T100000
DTEND;TZID=America/Chicago:20231210T150000
DTSTAMP:20260423T011629
CREATED:20230323T182158Z
LAST-MODIFIED:20230323T182158Z
UID:2024-1702202400-1702220400@jimmysjerkyjunction.com
SUMMARY:Cottage Grove 5th Annual Winter Wonderland 2023
DESCRIPTION:All Handmade Craft Show at the Cottage Grove Armory on December 15th\, 2023.\nWe will open our doors for our Customers at 10:00am and will have some of the most Amazing Crafters the Upper Midwest has to offer waiting inside for you! Come\, Sip\, Shop\, Eat\, and enjoy your day out with Friends! \nFREE ADMISSION and FREE PARKING\,\nAnd are Always FAMILY FRIENDLY!!! \n 
URL:https://jimmysjerkyjunction.com/event/cottage-grove-5th-annual-winter-wonderland-2023/
LOCATION:cottage grove winter wonderland 2023\, 8180 Belden Blvd\, Cottage Grove\, MN\, United States
END:VEVENT
BEGIN:VEVENT
DTSTART;TZID=America/Chicago:20231216T093000
DTEND;TZID=America/Chicago:20231216T160000
DTSTAMP:20260423T011629
CREATED:20230315T221709Z
LAST-MODIFIED:20230323T190402Z
UID:1959-1702719000-1702742400@jimmysjerkyjunction.com
SUMMARY:Maple Grove Christmas Craft & Gift Show 2023
DESCRIPTION:Maple Grove Christmas Craft & Gift Show 2023 \nDate(s)/Time:\nDecember 16\, 2023\n9:30 AM – 4:00 PM \nLocation:\nMaple Grove Community Center\n12951 Weaver Lake Road\nMaple Grove\, MN 55369 \nAdmission: free
URL:https://jimmysjerkyjunction.com/event/maple-grove-christmas-craft-gift-show-2023/
LOCATION:Maple Grove Christmas Crafts & Gifts\, 12951 Weaver Lake Road\, Maple Grove\, MN\, 55369\, United States
END:VEVENT
END:VCALENDAR