BEGIN:VCALENDAR
VERSION:2.0
PRODID:-//Jimmy&#039;s Jerky Junction - ECPv6.15.17.1//NONSGML v1.0//EN
CALSCALE:GREGORIAN
METHOD:PUBLISH
X-WR-CALNAME:Jimmy&#039;s Jerky Junction
X-ORIGINAL-URL:https://jimmysjerkyjunction.com
X-WR-CALDESC:Events for Jimmy&#039;s Jerky Junction
REFRESH-INTERVAL;VALUE=DURATION:PT1H
X-Robots-Tag:noindex
X-PUBLISHED-TTL:PT1H
BEGIN:VTIMEZONE
TZID:America/Chicago
BEGIN:DAYLIGHT
TZOFFSETFROM:-0600
TZOFFSETTO:-0500
TZNAME:CDT
DTSTART:20220313T080000
END:DAYLIGHT
BEGIN:STANDARD
TZOFFSETFROM:-0500
TZOFFSETTO:-0600
TZNAME:CST
DTSTART:20221106T070000
END:STANDARD
BEGIN:DAYLIGHT
TZOFFSETFROM:-0600
TZOFFSETTO:-0500
TZNAME:CDT
DTSTART:20230312T080000
END:DAYLIGHT
BEGIN:STANDARD
TZOFFSETFROM:-0500
TZOFFSETTO:-0600
TZNAME:CST
DTSTART:20231105T070000
END:STANDARD
BEGIN:DAYLIGHT
TZOFFSETFROM:-0600
TZOFFSETTO:-0500
TZNAME:CDT
DTSTART:20240310T080000
END:DAYLIGHT
BEGIN:STANDARD
TZOFFSETFROM:-0500
TZOFFSETTO:-0600
TZNAME:CST
DTSTART:20241103T070000
END:STANDARD
END:VTIMEZONE
BEGIN:VEVENT
DTSTART;TZID=America/Chicago:20230401T010000
DTEND;TZID=America/Chicago:20230401T050000
DTSTAMP:20260423T110245
CREATED:20230322T000116Z
LAST-MODIFIED:20230322T000613Z
UID:1935-1680310800-1680325200@jimmysjerkyjunction.com
SUMMARY:Minnesota Craft Beer Festival 2023
DESCRIPTION:With more than 400 beers from 110+ breweries from Minnesota and beyond\, we’re committed to providing a taproom experience for attendees. Each brewery has been asked to bring a taproom-only. \nOur Jimmy’s Jerky Stand will be providing FREE quality sized samples to all that wish to participate.  We look forward to seeing you there! \n  \nwww.jimmysjerkyjunction.com \n Location: \nMinneapolis Convention Center\n1301 2nd Ave S\, Minneapolis\, MN\n\n  \n  \n 
URL:https://jimmysjerkyjunction.com/event/minnesota-craft-beer-festival-2023-2/
LOCATION:Brewfest 2023\, 1301 2nd Avenue South\, MN\, 55044\, United States
END:VEVENT
BEGIN:VEVENT
DTSTART;TZID=America/Chicago:20230422T100000
DTEND;TZID=America/Chicago:20230422T150000
DTSTAMP:20260423T110245
CREATED:20230316T171650Z
LAST-MODIFIED:20230316T171746Z
UID:1970-1682157600-1682175600@jimmysjerkyjunction.com
SUMMARY:Lakeville Spring Fling Craft and Gift Expo
DESCRIPTION:This event is going to be so Spectacular From Original Handmade Craft Exhibitors to Small Businesses\, Woodworkers\, knots\, embroidery\, crocheted items\, Lights\, Metal Art\, Wood Signs\, Cosmetics\, Beauty and Wellness products\, Art\, Photographers\, Bakers\, Candy Makers\, Jams and Jellies\, Etc. We will have just about everything you are looking for at this event. \n  \nFree Admission
URL:https://jimmysjerkyjunction.com/event/lakeville-spring-fling-craft-and-gift-expo/
LOCATION:Lakeville Spring Fling Craft and Gift Expo\, 8525 215th St W\, Lakeville\, MN\, 55044\, United States
END:VEVENT
BEGIN:VEVENT
DTSTART;TZID=America/Chicago:20230430T150000
DTEND;TZID=America/Chicago:20230430T180000
DTSTAMP:20260423T110245
CREATED:20230202T163016Z
LAST-MODIFIED:20230316T205816Z
UID:1746-1682866800-1682877600@jimmysjerkyjunction.com
SUMMARY:Brews & Bones
DESCRIPTION:Brews and Bones Dog Event\nSun Apr 24\, 2022  \nSchram Haus Brewery\, 3700 Chaska Boulevard\, Chaska\, United States \nBring your furry best friend!  Free Water and Treats!…for the dogs….
URL:https://jimmysjerkyjunction.com/event/brews-bones/
LOCATION:Schram Haus Brewery\, 3700 Chaska Blvd.\, Chaska\, MN\, 55318\, United States
END:VEVENT
END:VCALENDAR